Package: EGSEA Version: 1.37.0 Command: /home/biocbuild/R/R/bin/R CMD check --install=check:EGSEA.install-out.txt --library=/home/biocbuild/R/R/site-library --no-vignettes --timings EGSEA_1.37.0.tar.gz StartedAt: 2025-10-17 08:37:14 -0000 (Fri, 17 Oct 2025) EndedAt: 2025-10-17 08:48:23 -0000 (Fri, 17 Oct 2025) EllapsedTime: 669.0 seconds RetCode: 0 Status: OK CheckDir: EGSEA.Rcheck Warnings: 0