Package: EGSEA Version: 1.37.0 Command: /home/biocbuild/R/R/bin/R CMD build --keep-empty-dirs --no-resave-data EGSEA StartedAt: 2025-10-17 00:54:01 -0000 (Fri, 17 Oct 2025) EndedAt: 2025-10-17 00:59:22 -0000 (Fri, 17 Oct 2025) EllapsedTime: 321.1 seconds RetCode: 0 Status: OK PackageFile: EGSEA_1.37.0.tar.gz PackageFileSize: 2.107 MiB