Package: EGSEA Version: 1.37.0 Command: chmod a+r EGSEA -R && F:\biocbuild\bbs-3.22-bioc\R\bin\R.exe CMD build --keep-empty-dirs --no-resave-data EGSEA StartedAt: 2025-08-14 19:53:37 -0400 (Thu, 14 Aug 2025) EndedAt: 2025-08-14 20:01:41 -0400 (Thu, 14 Aug 2025) EllapsedTime: 484.7 seconds RetCode: 0 Status: OK PackageFile: EGSEA_1.37.0.tar.gz PackageFileSize: 2.091 MiB