Package: EGSEA Version: 1.37.0 Command: rm -rf EGSEA.buildbin-libdir && mkdir EGSEA.buildbin-libdir && F:\biocbuild\bbs-3.22-bioc\R\bin\R.exe CMD INSTALL --build --library=EGSEA.buildbin-libdir EGSEA_1.37.0.tar.gz StartedAt: 2025-08-15 10:12:29 -0400 (Fri, 15 Aug 2025) EndedAt: 2025-08-15 10:14:10 -0400 (Fri, 15 Aug 2025) EllapsedTime: 101.3 seconds RetCode: 0 Status: OK PackageFile: EGSEA_1.37.0.zip PackageFileSize: 2.443 MiB