Package: EGAD Version: 1.37.0 Command: /home/biocbuild/R/R/bin/R CMD INSTALL EGAD StartedAt: 2025-10-16 21:51:28 -0000 (Thu, 16 Oct 2025) EndedAt: 2025-10-16 21:52:15 -0000 (Thu, 16 Oct 2025) EllapsedTime: 46.9 seconds RetCode: 0 Status: OK