Package: EGAD Version: 1.37.0 Command: /Library/Frameworks/R.framework/Resources/bin/R CMD INSTALL EGAD StartedAt: 2025-10-20 15:32:07 -0400 (Mon, 20 Oct 2025) EndedAt: 2025-10-20 15:32:52 -0400 (Mon, 20 Oct 2025) EllapsedTime: 44.1 seconds RetCode: 0 Status: OK