Package: EGAD Version: 1.37.0 Command: rm -rf EGAD.buildbin-libdir && mkdir EGAD.buildbin-libdir && /Users/biocbuild/BBS/utils/build-universal.sh EGAD_1.37.0.tar.gz /Library/Frameworks/R.framework/Resources/bin/R EGAD.buildbin-libdir StartedAt: 2025-10-20 03:07:32 -0400 (Mon, 20 Oct 2025) EndedAt: 2025-10-20 03:08:24 -0400 (Mon, 20 Oct 2025) EllapsedTime: 51.8 seconds RetCode: 0 Status: OK PackageFile: EGAD_1.37.0.tgz PackageFileSize: 35.67 MiB