Package: EGAD Version: 1.37.0 Command: /Library/Frameworks/R.framework/Resources/bin/R CMD check --install=check:EGAD.install-out.txt --library=/Library/Frameworks/R.framework/Resources/library --no-vignettes --timings EGAD_1.37.0.tar.gz StartedAt: 2025-10-19 19:32:02 -0400 (Sun, 19 Oct 2025) EndedAt: 2025-10-19 19:33:18 -0400 (Sun, 19 Oct 2025) EllapsedTime: 75.9 seconds RetCode: 0 Status: WARNINGS CheckDir: EGAD.Rcheck Warnings: 1