Package: EGAD Version: 1.37.0 Command: rm -rf EGAD.buildbin-libdir && mkdir EGAD.buildbin-libdir && /Users/biocbuild/BBS/utils/build-universal.sh EGAD_1.37.0.tar.gz /Library/Frameworks/R.framework/Resources/bin/R EGAD.buildbin-libdir StartedAt: 2025-10-19 22:58:23 -0400 (Sun, 19 Oct 2025) EndedAt: 2025-10-19 22:58:39 -0400 (Sun, 19 Oct 2025) EllapsedTime: 16.4 seconds RetCode: 0 Status: OK PackageFile: EGAD_1.37.0.tgz PackageFileSize: 35.67 MiB