Package: EDIRquery Version: 1.9.0 Command: /home/biocbuild/R/R/bin/R CMD INSTALL EDIRquery StartedAt: 2025-10-20 20:38:33 -0000 (Mon, 20 Oct 2025) EndedAt: 2025-10-20 20:39:05 -0000 (Mon, 20 Oct 2025) EllapsedTime: 31.7 seconds RetCode: 0 Status: OK