Package: EDIRquery Version: 1.9.0 Command: /home/biocbuild/R/R/bin/R CMD check --install=check:EDIRquery.install-out.txt --library=/home/biocbuild/R/R/site-library --no-vignettes --timings EDIRquery_1.9.0.tar.gz StartedAt: 2025-10-17 08:35:42 -0000 (Fri, 17 Oct 2025) EndedAt: 2025-10-17 08:39:14 -0000 (Fri, 17 Oct 2025) EllapsedTime: 212.1 seconds RetCode: 0 Status: OK CheckDir: EDIRquery.Rcheck Warnings: 0