Package: EDIRquery Version: 1.9.0 Command: /home/biocbuild/R/R/bin/R CMD build --keep-empty-dirs --no-resave-data EDIRquery StartedAt: 2025-10-20 23:33:19 -0000 (Mon, 20 Oct 2025) EndedAt: 2025-10-20 23:34:06 -0000 (Mon, 20 Oct 2025) EllapsedTime: 47.0 seconds RetCode: 0 Status: OK PackageFile: EDIRquery_1.9.0.tar.gz PackageFileSize: 1.368 MiB