Package: EDASeq Version: 2.43.0 Command: chmod a+r EDASeq -R && F:\biocbuild\bbs-3.22-bioc\R\bin\R.exe CMD build --keep-empty-dirs --no-resave-data EDASeq StartedAt: 2025-08-14 19:52:52 -0400 (Thu, 14 Aug 2025) EndedAt: 2025-08-14 19:54:40 -0400 (Thu, 14 Aug 2025) EllapsedTime: 107.7 seconds RetCode: 0 Status: OK PackageFile: EDASeq_2.43.0.tar.gz PackageFileSize: 569.7 KiB