Package: EDASeq Version: 2.44.0 Command: /home/biocbuild/bbs-3.22-bioc/R/bin/R CMD check --install=check:EDASeq.install-out.txt --library=/home/biocbuild/bbs-3.22-bioc/R/site-library --timings EDASeq_2.44.0.tar.gz StartedAt: 2025-11-09 23:26:37 -0500 (Sun, 09 Nov 2025) EndedAt: 2025-11-09 23:31:47 -0500 (Sun, 09 Nov 2025) EllapsedTime: 310.3 seconds RetCode: 0 Status: OK CheckDir: EDASeq.Rcheck Warnings: 0