Package: EDASeq Version: 2.44.0 Command: /home/biocbuild/bbs-3.22-bioc/R/bin/R CMD build --keep-empty-dirs --no-resave-data --md5 EDASeq StartedAt: 2025-11-10 17:33:37 -0500 (Mon, 10 Nov 2025) EndedAt: 2025-11-10 17:34:52 -0500 (Mon, 10 Nov 2025) EllapsedTime: 75.1 seconds RetCode: 0 Status: OK PackageFile: EDASeq_2.44.0.tar.gz PackageFileSize: 1.136 MiB