Package: EDASeq Version: 2.44.0 Command: /Library/Frameworks/R.framework/Resources/bin/R CMD check --install=check:EDASeq.install-out.txt --library=/Library/Frameworks/R.framework/Resources/library --no-vignettes --timings EDASeq_2.44.0.tar.gz StartedAt: 2025-10-31 21:00:19 -0400 (Fri, 31 Oct 2025) EndedAt: 2025-10-31 21:05:25 -0400 (Fri, 31 Oct 2025) EllapsedTime: 306.2 seconds RetCode: 0 Status: OK CheckDir: EDASeq.Rcheck Warnings: 0