Package: EDASeq Version: 2.44.0 Command: /Library/Frameworks/R.framework/Resources/bin/R CMD build --keep-empty-dirs --no-resave-data EDASeq StartedAt: 2025-11-02 16:57:42 -0500 (Sun, 02 Nov 2025) EndedAt: 2025-11-02 16:59:07 -0500 (Sun, 02 Nov 2025) EllapsedTime: 84.6 seconds RetCode: 0 Status: OK PackageFile: EDASeq_2.44.0.tar.gz PackageFileSize: 1.086 MiB