Package: EBcoexpress Version: 1.53.0 Command: /home/biocbuild/bbs-3.22-bioc/R/bin/R CMD INSTALL EBcoexpress StartedAt: 2025-10-20 15:12:20 -0400 (Mon, 20 Oct 2025) EndedAt: 2025-10-20 15:12:25 -0400 (Mon, 20 Oct 2025) EllapsedTime: 4.9 seconds RetCode: 0 Status: OK