Package: EBcoexpress Version: 1.53.0 Command: /Library/Frameworks/R.framework/Resources/bin/R CMD build --keep-empty-dirs --no-resave-data EBcoexpress StartedAt: 2025-10-19 17:02:32 -0400 (Sun, 19 Oct 2025) EndedAt: 2025-10-19 17:03:11 -0400 (Sun, 19 Oct 2025) EllapsedTime: 39.1 seconds RetCode: 0 Status: OK PackageFile: EBcoexpress_1.53.0.tar.gz PackageFileSize: 2.665 MiB