Package: EBcoexpress Version: 1.53.0 Command: /Library/Frameworks/R.framework/Resources/bin/R CMD INSTALL EBcoexpress StartedAt: 2025-10-19 15:07:16 -0400 (Sun, 19 Oct 2025) EndedAt: 2025-10-19 15:07:18 -0400 (Sun, 19 Oct 2025) EllapsedTime: 2.8 seconds RetCode: 0 Status: OK