Package: EBImage Version: 4.52.0 Command: /Library/Frameworks/R.framework/Resources/bin/R CMD check --install=check:EBImage.install-out.txt --library=/Library/Frameworks/R.framework/Resources/library --no-vignettes --timings EBImage_4.52.0.tar.gz StartedAt: 2025-11-21 04:34:44 -0500 (Fri, 21 Nov 2025) EndedAt: 2025-11-21 04:37:09 -0500 (Fri, 21 Nov 2025) EllapsedTime: 144.4 seconds RetCode: 0 Status: OK CheckDir: EBImage.Rcheck Warnings: 0