Package: Dune Version: 1.21.0 Command: chmod a+r Dune -R && F:\biocbuild\bbs-3.22-bioc\R\bin\R.exe CMD build --keep-empty-dirs --no-resave-data Dune StartedAt: 2025-08-14 19:51:05 -0400 (Thu, 14 Aug 2025) EndedAt: 2025-08-14 19:51:57 -0400 (Thu, 14 Aug 2025) EllapsedTime: 52.3 seconds RetCode: 0 Status: OK PackageFile: Dune_1.21.0.tar.gz PackageFileSize: 1.003 MiB