Package: Dune Version: 1.22.0 Command: /home/biocbuild/bbs-3.22-bioc/R/bin/R CMD check --install=check:Dune.install-out.txt --library=/home/biocbuild/bbs-3.22-bioc/R/site-library --timings Dune_1.22.0.tar.gz StartedAt: 2025-11-14 23:23:04 -0500 (Fri, 14 Nov 2025) EndedAt: 2025-11-14 23:28:00 -0500 (Fri, 14 Nov 2025) EllapsedTime: 296.3 seconds RetCode: 0 Status: OK CheckDir: Dune.Rcheck Warnings: 0