Package: Dune Version: 1.22.0 Command: /Library/Frameworks/R.framework/Resources/bin/R CMD check --install=check:Dune.install-out.txt --library=/Library/Frameworks/R.framework/Resources/library --no-vignettes --timings Dune_1.22.0.tar.gz StartedAt: 2025-10-31 19:38:07 -0400 (Fri, 31 Oct 2025) EndedAt: 2025-10-31 19:39:59 -0400 (Fri, 31 Oct 2025) EllapsedTime: 111.4 seconds RetCode: 1 Status: ERROR CheckDir: Dune.Rcheck Warnings: NA