Package: DspikeIn Version: 1.0.0 Command: /Library/Frameworks/R.framework/Resources/bin/R CMD INSTALL DspikeIn StartedAt: 2025-11-10 15:18:40 -0500 (Mon, 10 Nov 2025) EndedAt: 2025-11-10 15:19:03 -0500 (Mon, 10 Nov 2025) EllapsedTime: 23.2 seconds RetCode: 0 Status: OK