Package: DspikeIn Version: 1.0.0 Command: /Library/Frameworks/R.framework/Resources/bin/R CMD build --keep-empty-dirs --no-resave-data DspikeIn StartedAt: 2025-11-10 16:16:32 -0500 (Mon, 10 Nov 2025) EndedAt: 2025-11-10 16:18:28 -0500 (Mon, 10 Nov 2025) EllapsedTime: 116.3 seconds RetCode: 0 Status: OK PackageFile: DspikeIn_1.0.0.tar.gz PackageFileSize: 4.39 MiB