Package: DropletUtils Version: 1.30.0 Command: /home/biocbuild/bbs-3.22-bioc/R/bin/R CMD check --install=check:DropletUtils.install-out.txt --library=/home/biocbuild/bbs-3.22-bioc/R/site-library --timings DropletUtils_1.30.0.tar.gz StartedAt: 2025-10-30 05:34:02 -0400 (Thu, 30 Oct 2025) EndedAt: 2025-10-30 05:40:33 -0400 (Thu, 30 Oct 2025) EllapsedTime: 390.5 seconds RetCode: 0 Status: WARNINGS CheckDir: DropletUtils.Rcheck Warnings: 1