Package: DropletUtils Version: 1.29.7 Command: /Library/Frameworks/R.framework/Resources/bin/R CMD INSTALL DropletUtils StartedAt: 2025-10-28 15:34:51 -0400 (Tue, 28 Oct 2025) EndedAt: 2025-10-28 15:36:36 -0400 (Tue, 28 Oct 2025) EllapsedTime: 105.6 seconds RetCode: 0 Status: OK