Package: DropletUtils Version: 1.30.0 Command: /Library/Frameworks/R.framework/Resources/bin/R CMD check --install=check:DropletUtils.install-out.txt --library=/Library/Frameworks/R.framework/Resources/library --no-vignettes --timings DropletUtils_1.30.0.tar.gz StartedAt: 2025-10-30 03:38:14 -0400 (Thu, 30 Oct 2025) EndedAt: 2025-10-30 03:44:55 -0400 (Thu, 30 Oct 2025) EllapsedTime: 400.6 seconds RetCode: 0 Status: WARNINGS CheckDir: DropletUtils.Rcheck Warnings: 1