Package: DropletUtils Version: 1.30.0 Command: rm -rf DropletUtils.buildbin-libdir && mkdir DropletUtils.buildbin-libdir && /Users/biocbuild/BBS/utils/build-universal.sh DropletUtils_1.30.0.tar.gz /Library/Frameworks/R.framework/Resources/bin/R DropletUtils.buildbin-libdir StartedAt: 2025-10-30 08:14:10 -0400 (Thu, 30 Oct 2025) EndedAt: 2025-10-30 08:15:59 -0400 (Thu, 30 Oct 2025) EllapsedTime: 109.3 seconds RetCode: 0 Status: OK PackageFile: DropletUtils_1.30.0.tgz PackageFileSize: 2.455 MiB