Package: DropletUtils Version: 1.29.7 Command: /Library/Frameworks/R.framework/Resources/bin/R CMD INSTALL DropletUtils StartedAt: 2025-10-27 15:15:54 -0400 (Mon, 27 Oct 2025) EndedAt: 2025-10-27 15:16:23 -0400 (Mon, 27 Oct 2025) EllapsedTime: 28.7 seconds RetCode: 0 Status: OK