Package: DropletUtils Version: 1.29.7 Command: rm -rf DropletUtils.buildbin-libdir && mkdir DropletUtils.buildbin-libdir && /Users/biocbuild/BBS/utils/build-universal.sh DropletUtils_1.29.7.tar.gz /Library/Frameworks/R.framework/Resources/bin/R DropletUtils.buildbin-libdir StartedAt: 2025-10-27 23:00:59 -0400 (Mon, 27 Oct 2025) EndedAt: 2025-10-27 23:01:30 -0400 (Mon, 27 Oct 2025) EllapsedTime: 30.7 seconds RetCode: 0 Status: OK PackageFile: DropletUtils_1.29.7.tgz PackageFileSize: 2.127 MiB