Package: DriverNet Version: 1.49.0 Command: F:\biocbuild\bbs-3.22-bioc\R\bin\R.exe CMD check --no-multiarch --install=check:DriverNet.install-out.txt --library=F:\biocbuild\bbs-3.22-bioc\R\library --no-vignettes --timings DriverNet_1.49.0.tar.gz StartedAt: 2025-08-15 02:47:45 -0400 (Fri, 15 Aug 2025) EndedAt: 2025-08-15 02:49:32 -0400 (Fri, 15 Aug 2025) EllapsedTime: 107.1 seconds RetCode: 0 Status: OK CheckDir: DriverNet.Rcheck Warnings: 0