Package: DominoEffect Version: 1.29.5 Command: /home/biocbuild/R/R/bin/R CMD INSTALL DominoEffect StartedAt: 2025-10-23 21:15:53 -0000 (Thu, 23 Oct 2025) EndedAt: 2025-10-23 21:16:46 -0000 (Thu, 23 Oct 2025) EllapsedTime: 52.7 seconds RetCode: 0 Status: OK