Package: DiscoRhythm Version: 1.26.0 Command: /Library/Frameworks/R.framework/Resources/bin/R CMD check --install=check:DiscoRhythm.install-out.txt --library=/Library/Frameworks/R.framework/Resources/library --no-vignettes --timings DiscoRhythm_1.26.0.tar.gz StartedAt: 2025-11-03 20:50:10 -0500 (Mon, 03 Nov 2025) EndedAt: 2025-11-03 20:54:11 -0500 (Mon, 03 Nov 2025) EllapsedTime: 240.8 seconds RetCode: 0 Status: OK CheckDir: DiscoRhythm.Rcheck Warnings: 0