Package: DiscoRhythm Version: 1.26.0 Command: /Library/Frameworks/R.framework/Resources/bin/R CMD build --keep-empty-dirs --no-resave-data DiscoRhythm StartedAt: 2025-11-03 16:49:46 -0500 (Mon, 03 Nov 2025) EndedAt: 2025-11-03 16:50:45 -0500 (Mon, 03 Nov 2025) EllapsedTime: 59.3 seconds RetCode: 0 Status: OK PackageFile: DiscoRhythm_1.26.0.tar.gz PackageFileSize: 2.522 MiB