Package: Dino Version: 1.15.0 Command: F:\biocbuild\bbs-3.22-bioc\R\bin\R.exe CMD check --no-multiarch --install=check:Dino.install-out.txt --library=F:\biocbuild\bbs-3.22-bioc\R\library --no-vignettes --timings Dino_1.15.0.tar.gz StartedAt: 2025-08-15 02:39:26 -0400 (Fri, 15 Aug 2025) EndedAt: 2025-08-15 02:50:55 -0400 (Fri, 15 Aug 2025) EllapsedTime: 689.0 seconds RetCode: 0 Status: OK CheckDir: Dino.Rcheck Warnings: 0