Package: DifferentialRegulation Version: 2.8.0 Command: /Library/Frameworks/R.framework/Resources/bin/R CMD INSTALL DifferentialRegulation StartedAt: 2025-11-06 15:19:05 -0500 (Thu, 06 Nov 2025) EndedAt: 2025-11-06 15:19:23 -0500 (Thu, 06 Nov 2025) EllapsedTime: 18.1 seconds RetCode: 0 Status: OK