Package: DifferentialRegulation Version: 2.8.0 Command: /Library/Frameworks/R.framework/Resources/bin/R CMD build --keep-empty-dirs --no-resave-data DifferentialRegulation StartedAt: 2025-11-06 16:12:29 -0500 (Thu, 06 Nov 2025) EndedAt: 2025-11-06 16:13:40 -0500 (Thu, 06 Nov 2025) EllapsedTime: 70.7 seconds RetCode: 0 Status: OK PackageFile: DifferentialRegulation_2.8.0.tar.gz PackageFileSize: 2.821 MiB