Package: DiffLogo Version: 2.33.0 Command: /home/biocbuild/R/R/bin/R CMD INSTALL DiffLogo StartedAt: 2025-10-16 21:09:22 -0000 (Thu, 16 Oct 2025) EndedAt: 2025-10-16 21:10:01 -0000 (Thu, 16 Oct 2025) EllapsedTime: 39.8 seconds RetCode: 0 Status: OK