Package: DiffLogo Version: 2.33.0 Command: /home/biocbuild/R/R/bin/R CMD check --install=check:DiffLogo.install-out.txt --library=/home/biocbuild/R/R/site-library --no-vignettes --timings DiffLogo_2.33.0.tar.gz StartedAt: 2025-10-17 08:17:01 -0000 (Fri, 17 Oct 2025) EndedAt: 2025-10-17 08:17:36 -0000 (Fri, 17 Oct 2025) EllapsedTime: 35.0 seconds RetCode: 0 Status: WARNINGS CheckDir: DiffLogo.Rcheck Warnings: 1