Package: DiffLogo Version: 2.33.0 Command: /home/biocbuild/R/R/bin/R CMD build --keep-empty-dirs --no-resave-data DiffLogo StartedAt: 2025-10-17 00:41:12 -0000 (Fri, 17 Oct 2025) EndedAt: 2025-10-17 00:42:14 -0000 (Fri, 17 Oct 2025) EllapsedTime: 62.0 seconds RetCode: 0 Status: OK PackageFile: DiffLogo_2.33.0.tar.gz PackageFileSize: 913.2 KiB