Package: DiffLogo Version: 2.33.0 Command: F:\biocbuild\bbs-3.22-bioc\R\bin\R.exe CMD check --no-multiarch --install=check:DiffLogo.install-out.txt --library=F:\biocbuild\bbs-3.22-bioc\R\library --no-vignettes --timings DiffLogo_2.33.0.tar.gz StartedAt: 2025-08-15 02:38:32 -0400 (Fri, 15 Aug 2025) EndedAt: 2025-08-15 02:39:21 -0400 (Fri, 15 Aug 2025) EllapsedTime: 48.7 seconds RetCode: 0 Status: WARNINGS CheckDir: DiffLogo.Rcheck Warnings: 1