Package: DiffLogo Version: 2.33.0 Command: /Library/Frameworks/R.framework/Resources/bin/R CMD INSTALL DiffLogo StartedAt: 2025-10-19 15:01:42 -0400 (Sun, 19 Oct 2025) EndedAt: 2025-10-19 15:01:51 -0400 (Sun, 19 Oct 2025) EllapsedTime: 9.3 seconds RetCode: 0 Status: OK