Package: DiffLogo Version: 2.33.0 Command: /Library/Frameworks/R.framework/Resources/bin/R CMD build --keep-empty-dirs --no-resave-data DiffLogo StartedAt: 2025-10-19 16:12:03 -0400 (Sun, 19 Oct 2025) EndedAt: 2025-10-19 16:12:25 -0400 (Sun, 19 Oct 2025) EllapsedTime: 22.2 seconds RetCode: 0 Status: OK PackageFile: DiffLogo_2.33.0.tar.gz PackageFileSize: 919.6 KiB