Package: DiffBind Version: 3.20.0 Command: /home/biocbuild/bbs-3.22-bioc/R/bin/R CMD INSTALL DiffBind StartedAt: 2025-11-13 15:54:25 -0500 (Thu, 13 Nov 2025) EndedAt: 2025-11-13 15:55:51 -0500 (Thu, 13 Nov 2025) EllapsedTime: 85.3 seconds RetCode: 0 Status: OK