Package: DiffBind Version: 3.20.0 Command: /home/biocbuild/bbs-3.22-bioc/R/bin/R CMD build --keep-empty-dirs --no-resave-data --md5 DiffBind StartedAt: 2025-11-13 17:21:52 -0500 (Thu, 13 Nov 2025) EndedAt: 2025-11-13 17:25:34 -0500 (Thu, 13 Nov 2025) EllapsedTime: 222.2 seconds RetCode: 0 Status: OK PackageFile: DiffBind_3.20.0.tar.gz PackageFileSize: 6.49 MiB