Package: DiffBind Version: 3.20.0 Command: /Library/Frameworks/R.framework/Resources/bin/R CMD INSTALL DiffBind StartedAt: 2025-11-03 15:49:28 -0500 (Mon, 03 Nov 2025) EndedAt: 2025-11-03 15:51:13 -0500 (Mon, 03 Nov 2025) EllapsedTime: 104.4 seconds RetCode: 0 Status: OK