Package: DiffBind Version: 3.20.0 Command: /Library/Frameworks/R.framework/Resources/bin/R CMD build --keep-empty-dirs --no-resave-data DiffBind StartedAt: 2025-11-03 16:48:13 -0500 (Mon, 03 Nov 2025) EndedAt: 2025-11-03 16:52:35 -0500 (Mon, 03 Nov 2025) EllapsedTime: 261.4 seconds RetCode: 0 Status: OK PackageFile: DiffBind_3.20.0.tar.gz PackageFileSize: 6.478 MiB