Package: DiffBind Version: 3.20.0 Command: rm -rf DiffBind.buildbin-libdir && mkdir DiffBind.buildbin-libdir && /Users/biocbuild/BBS/utils/build-universal.sh DiffBind_3.20.0.tar.gz /Library/Frameworks/R.framework/Resources/bin/R DiffBind.buildbin-libdir StartedAt: 2025-11-04 01:37:07 -0500 (Tue, 04 Nov 2025) EndedAt: 2025-11-04 01:39:00 -0500 (Tue, 04 Nov 2025) EllapsedTime: 113.0 seconds RetCode: 0 Status: OK PackageFile: DiffBind_3.20.0.tgz PackageFileSize: 7.097 MiB